BEGIN:VCALENDAR
VERSION:2.0
PRODID:-//ChamberMaster//Event Calendar 2.0//EN
METHOD:PUBLISH
X-PUBLISHED-TTL:P3D
REFRESH-INTERVAL:P3D
CALSCALE:GREGORIAN
BEGIN:VEVENT
DTSTART:20241030T220000Z
DTEND:20241031T000000Z
X-MICROSOFT-CDO-ALLDAYEVENT:FALSE
SUMMARY:New Hope Trunk-or-Treat
DESCRIPTION:New Hope Trunk - or - Treat
X-ALT-DESC;FMTTYPE=text/html:New Hope Trunk - or - Treat<br />\n&nbsp\;
LOCATION:New Hope Baptist Church 252 Rough and Ready Road Whiteville\, NC
UID:e.2482.7065
SEQUENCE:3
DTSTAMP:20260420T140515Z
URL:https://members.thecolumbuschamber.com/events/details/new-hope-trunk-or-treat-7065
END:VEVENT

END:VCALENDAR
