BEGIN:VCALENDAR
VERSION:2.0
PRODID:-//ChamberMaster//Event Calendar 2.0//EN
METHOD:PUBLISH
X-PUBLISHED-TTL:P3D
REFRESH-INTERVAL:P3D
CALSCALE:GREGORIAN
BEGIN:VEVENT
DTSTART:20251023T220000Z
DTEND:20251024T010000Z
X-MICROSOFT-CDO-ALLDAYEVENT:FALSE
SUMMARY:NC Yam Festival Taste of Tabor
DESCRIPTION:A Taste of Tabor will be held at the Sunnyfield Equestrian farm hosted by MaryLou Molina
X-ALT-DESC;FMTTYPE=text/html:A Taste of Tabor will be held at the Sunnyfield Equestrian farm hosted by MaryLou Molina
LOCATION:Sunnyfield Equestrian Farm 1861 Ten Mile Road Tabor City\, NC 28463
UID:e.2482.7218
SEQUENCE:3
DTSTAMP:20260422T202412Z
URL:https://members.thecolumbuschamber.com/events/details/nc-yam-festival-taste-of-tabor-7218
END:VEVENT

END:VCALENDAR
