BEGIN:VCALENDAR
VERSION:2.0
PRODID:-//ChamberMaster//Event Calendar 2.0//EN
METHOD:PUBLISH
X-PUBLISHED-TTL:P3D
REFRESH-INTERVAL:P3D
CALSCALE:GREGORIAN
BEGIN:VEVENT
DTSTART;VALUE=DATE:20221022
DTEND;VALUE=DATE:20221024
TRANSP:TRANSPARENT
X-MICROSOFT-CDO-ALLDAYEVENT:TRUE
SUMMARY:NC Yam Festival At Tabor City
DESCRIPTION:The sweet potato takes center stage at the North Carolina Yam Festival at Tabor City\, held annually the fourth weekend of October since 1986 in this southern Columbus County town near the South Carolina border.\n\n \n\nEveryone has a yam good time with plenty to see and do\, ranging from the festival parade to festival pageant.
X-ALT-DESC;FMTTYPE=text/html:<span style="font-family:times new roman\,serif\;"><span style="font-size:12.0pt\;">The sweet potato takes center stage at the North Carolina Yam Festival at Tabor City\, held annually the fourth weekend of October since 1986 in this southern Columbus County town near the South Carolina border.</span></span><br />\n&nbsp\;<br />\n<span style="font-family:times new roman\,serif\;"><span style="font-size:12.0pt\;">Everyone has a yam good time with plenty to see and do\, ranging from the festival parade to festival pageant.</span></span>
LOCATION:5th Street\, Downtown Tabor City\, NC 28463
UID:e.2482.6548
SEQUENCE:3
DTSTAMP:20260425T164837Z
URL:https://members.thecolumbuschamber.com/events/details/nc-yam-festival-at-tabor-city-6548
END:VEVENT

END:VCALENDAR
