BEGIN:VCALENDAR
VERSION:2.0
PRODID:-//ChamberMaster//Event Calendar 2.0//EN
METHOD:PUBLISH
X-PUBLISHED-TTL:P3D
REFRESH-INTERVAL:P3D
CALSCALE:GREGORIAN
BEGIN:VEVENT
DTSTART:20230819T230000Z
DTEND:20230820T010000Z
X-MICROSOFT-CDO-ALLDAYEVENT:FALSE
SUMMARY:NC Wildlife Action Cash Give-A-Way Banquet
DESCRIPTION:Nc Wildlife Action $$$$ Cash Give-A-Way Banquet & Benefit $$$$ for Helms Nature Preserve\n\nGrand Prize $1500 cash - 10 chances to win $100 each\n\nDinner for two with all the trimmings (dine in only - no take out)\n\nNeed not be present to win\, but must RSVP to attend banquet
X-ALT-DESC;FMTTYPE=text/html:Nc Wildlife Action $$$$ Cash Give-A-Way Banquet &amp\; Benefit $$$$ for Helms Nature Preserve<br />\nGrand Prize $1500 cash - 10 chances to win $100 each<br />\nDinner for two with all the trimmings (dine in only - no take out)<br />\nNeed not be present to win\, but must RSVP to attend banquet
LOCATION:Saturday\, August 19\, 2023 7:00 p.m. Lake Waccamaw Methodist Church Fellowship Hall
UID:e.2482.6801
SEQUENCE:3
DTSTAMP:20260421T183741Z
URL:https://members.thecolumbuschamber.com/events/details/nc-wildlife-action-cash-give-a-way-banquet-6801
END:VEVENT

END:VCALENDAR
