BEGIN:VCALENDAR
VERSION:2.0
PRODID:-//ChamberMaster//Event Calendar 2.0//EN
METHOD:PUBLISH
X-PUBLISHED-TTL:P3D
REFRESH-INTERVAL:P3D
CALSCALE:GREGORIAN
BEGIN:VEVENT
DTSTART:20251030T220000Z
DTEND:20251030T230000Z
X-MICROSOFT-CDO-ALLDAYEVENT:FALSE
SUMMARY:NC Pecan Music Festival Pecan Cooking Competition
DESCRIPTION:NC Music Festival 80's Party Pecan Cooking Competition\n\nDrop Off - 6:00 7:00 pm at Candlewood Farms Coffee & Bakery\n\nWinners announced: 8pm during the 80's Party In The Alley
X-ALT-DESC;FMTTYPE=text/html:NC Music Festival 80&#39\;s Party Pecan Cooking Competition<br />\nDrop Off - 6:00 7:00 pm at Candlewood Farms Coffee &amp\; Bakery<br />\nWinners announced: 8pm during the 80&#39\;s Party In The Alley
LOCATION:721 South Madison Street Whiteville\, Nc 28472
UID:e.2482.7232
SEQUENCE:3
DTSTAMP:20260422T202356Z
URL:https://members.thecolumbuschamber.com/events/details/nc-pecan-music-festival-pecan-cooking-competition-7232
END:VEVENT

END:VCALENDAR
