BEGIN:VCALENDAR
VERSION:2.0
PRODID:-//ChamberMaster//Event Calendar 2.0//EN
METHOD:PUBLISH
X-PUBLISHED-TTL:P3D
REFRESH-INTERVAL:P3D
CALSCALE:GREGORIAN
BEGIN:VEVENT
DTSTART:20231104T140000Z
DTEND:20231104T210000Z
X-MICROSOFT-CDO-ALLDAYEVENT:FALSE
SUMMARY:NC Pecan Harvest Festival
DESCRIPTION:Whiteville goes nuts for the Annual North Carolina Pecan Harvest Festival .  Make plans to bring your family and friends to downtown Whiteville and enjoy great food vendors\, entertainment\, car show and a fun kids block.
X-ALT-DESC;FMTTYPE=text/html:<span style="font-family:times new roman\,serif\;"><span style="font-size:12.0pt\;">Whiteville goes nuts for the Annual North Carolina Pecan Harvest Festival .&nbsp\; Make plans to bring your family and friends to downtown Whiteville and enjoy great food vendors\, entertainment\, car show and a fun kids block.</span></span><br />\n&nbsp\;<br />\n<br />\n&nbsp\;
LOCATION:Downtown Madison Street Whiteville\, NC 28472
UID:e.2482.6698
SEQUENCE:3
DTSTAMP:20260420T000953Z
URL:https://members.thecolumbuschamber.com/events/details/nc-pecan-harvest-festival-6698
END:VEVENT

END:VCALENDAR
