BEGIN:VCALENDAR
VERSION:2.0
PRODID:-//ChamberMaster//Event Calendar 2.0//EN
METHOD:PUBLISH
X-PUBLISHED-TTL:P3D
REFRESH-INTERVAL:P3D
CALSCALE:GREGORIAN
BEGIN:VEVENT
DTSTART:20231103T210000Z
DTEND:20231104T000000Z
X-MICROSOFT-CDO-ALLDAYEVENT:FALSE
SUMMARY:NC Pecan Festival Burger Brawl
DESCRIPTION:NC Pecan Festival Burger Brawl
X-ALT-DESC;FMTTYPE=text/html:NC Pecan Festival Burger Brawl
LOCATION:
UID:e.2482.6697
SEQUENCE:3
DTSTAMP:20260420T000836Z
URL:https://members.thecolumbuschamber.com/events/details/nc-pecan-festival-burger-brawl-6697
END:VEVENT

END:VCALENDAR
