BEGIN:VCALENDAR
VERSION:2.0
PRODID:-//ChamberMaster//Event Calendar 2.0//EN
METHOD:PUBLISH
X-PUBLISHED-TTL:P3D
REFRESH-INTERVAL:P3D
CALSCALE:GREGORIAN
BEGIN:VEVENT
DTSTART:20230801T220000Z
DTEND:20230802T010000Z
X-MICROSOFT-CDO-ALLDAYEVENT:FALSE
SUMMARY:National Night Out
DESCRIPTION:The City of Whiteville Police Department proudly celebrates National Night Out on August 1\, 2023.
X-ALT-DESC;FMTTYPE=text/html:The City of Whiteville Police Department proudly celebrates National Night Out on August 1\, 2023.
LOCATION:Whiteville City Hall Parking Lot 317 South Madison Street Whiteville\, NC
UID:e.2482.6780
SEQUENCE:3
DTSTAMP:20260421T183235Z
URL:https://members.thecolumbuschamber.com/events/details/national-night-out-6780
END:VEVENT

END:VCALENDAR
