BEGIN:VCALENDAR
VERSION:2.0
PRODID:-//ChamberMaster//Event Calendar 2.0//EN
METHOD:PUBLISH
X-PUBLISHED-TTL:P3D
REFRESH-INTERVAL:P3D
CALSCALE:GREGORIAN
BEGIN:VEVENT
DTSTART:20240418T230000Z
DTEND:20240419T010000Z
X-MICROSOFT-CDO-ALLDAYEVENT:FALSE
SUMMARY:Music In The Alley Downtown Whiteville
DESCRIPTION:Musical performance by Jason Smith & Evan Wright.
X-ALT-DESC;FMTTYPE=text/html:Musical performance by Jason Smith &amp\; Evan Wright.
LOCATION:
UID:e.2482.6945
SEQUENCE:3
DTSTAMP:20260420T202402Z
URL:https://members.thecolumbuschamber.com/events/details/music-in-the-alley-downtown-whiteville-6945
END:VEVENT

END:VCALENDAR
