BEGIN:VCALENDAR
VERSION:2.0
PRODID:-//ChamberMaster//Event Calendar 2.0//EN
METHOD:PUBLISH
X-PUBLISHED-TTL:P3D
REFRESH-INTERVAL:P3D
CALSCALE:GREGORIAN
BEGIN:VEVENT
DTSTART;VALUE=DATE:20230817
DTEND;VALUE=DATE:20230818
TRANSP:TRANSPARENT
X-MICROSOFT-CDO-ALLDAYEVENT:TRUE
SUMMARY:Music In The Alley
DESCRIPTION:The City of Whiteville will host Music In The Alley by Kevin Nichols on August 17\, 2023.
X-ALT-DESC;FMTTYPE=text/html:The City of Whiteville will host Music In The Alley by Kevin Nichols on August 17\, 2023.
LOCATION:Music In The Alley Downtown Whiteville
UID:e.2482.6726
SEQUENCE:3
DTSTAMP:20260421T171856Z
URL:https://members.thecolumbuschamber.com/events/details/music-in-the-alley-6726
END:VEVENT

END:VCALENDAR
