BEGIN:VCALENDAR
VERSION:2.0
PRODID:-//ChamberMaster//Event Calendar 2.0//EN
METHOD:PUBLISH
X-PUBLISHED-TTL:P3D
REFRESH-INTERVAL:P3D
CALSCALE:GREGORIAN
BEGIN:VEVENT
DTSTART:20230803T220000Z
DTEND:20230804T010000Z
X-MICROSOFT-CDO-ALLDAYEVENT:FALSE
SUMMARY:Music In The Alley
DESCRIPTION:The City of Whiteville will host Music In The Alley by Wahoo Creek Band on August 3\, 2023.
X-ALT-DESC;FMTTYPE=text/html:The City of Whiteville will host Music In The Alley by Wahoo Creek Band on August 3\, 2023.
LOCATION:Music In The Alley Downtown Whiteville
UID:e.2482.6725
SEQUENCE:3
DTSTAMP:20260421T183455Z
URL:https://members.thecolumbuschamber.com/events/details/music-in-the-alley-6725
END:VEVENT

END:VCALENDAR
