BEGIN:VCALENDAR
VERSION:2.0
PRODID:-//ChamberMaster//Event Calendar 2.0//EN
METHOD:PUBLISH
X-PUBLISHED-TTL:P3D
REFRESH-INTERVAL:P3D
CALSCALE:GREGORIAN
BEGIN:VEVENT
DTSTART:20230706T220000Z
DTEND:20230707T010000Z
X-MICROSOFT-CDO-ALLDAYEVENT:FALSE
SUMMARY:Music In The Alley
DESCRIPTION:The City of Whiteville will host Music In The Alley by Play That One DJ on July 6\, 2023.
X-ALT-DESC;FMTTYPE=text/html:The City of Whiteville will host Music In The Alley by Play That One DJ on July 6\, 2023.
LOCATION:The Alley Downtown Whiteville Whiteville\, NC 28472
UID:e.2482.6723
SEQUENCE:3
DTSTAMP:20260421T154905Z
URL:https://members.thecolumbuschamber.com/events/details/music-in-the-alley-6723
END:VEVENT

END:VCALENDAR
