BEGIN:VCALENDAR
VERSION:2.0
PRODID:-//ChamberMaster//Event Calendar 2.0//EN
METHOD:PUBLISH
X-PUBLISHED-TTL:P3D
REFRESH-INTERVAL:P3D
CALSCALE:GREGORIAN
BEGIN:VEVENT
DTSTART;VALUE=DATE:20240920
DTEND;VALUE=DATE:20240921
TRANSP:TRANSPARENT
X-MICROSOFT-CDO-ALLDAYEVENT:TRUE
SUMMARY:Mounted Shooting Clinic
DESCRIPTION:Mounted Shooting Clinic
X-ALT-DESC;FMTTYPE=text/html:Mounted Shooting Clinic
LOCATION:Lake Waccamaw\, NC 28450
UID:e.2482.7012
SEQUENCE:3
DTSTAMP:20260420T150858Z
URL:https://members.thecolumbuschamber.com/events/details/mounted-shooting-clinic-7012
END:VEVENT

END:VCALENDAR
