BEGIN:VCALENDAR
VERSION:2.0
PRODID:-//ChamberMaster//Event Calendar 2.0//EN
METHOD:PUBLISH
X-PUBLISHED-TTL:P3D
REFRESH-INTERVAL:P3D
CALSCALE:GREGORIAN
BEGIN:VEVENT
DTSTART;VALUE=DATE:20260117
DTEND;VALUE=DATE:20260118
TRANSP:TRANSPARENT
X-MICROSOFT-CDO-ALLDAYEVENT:TRUE
SUMMARY:MLK DAY
DESCRIPTION:MLK DAY\n\nTown of Bolton\n\nGuest speaker Pastor Bryan Williams
X-ALT-DESC;FMTTYPE=text/html:MLK DAY<br />\nTown of Bolton<br />\nGuest speaker Pastor Bryan Williams
LOCATION:Community Prayer House 18635 Andrew Jackson Highway Bolton\, NC 28423
UID:e.2482.7279
SEQUENCE:3
DTSTAMP:20260422T153938Z
URL:https://members.thecolumbuschamber.com/events/details/mlk-day-7279
END:VEVENT

END:VCALENDAR
