BEGIN:VCALENDAR
VERSION:2.0
PRODID:-//ChamberMaster//Event Calendar 2.0//EN
METHOD:PUBLISH
X-PUBLISHED-TTL:P3D
REFRESH-INTERVAL:P3D
CALSCALE:GREGORIAN
BEGIN:VEVENT
DTSTART:20231201T160000Z
DTEND:20231202T000000Z
X-MICROSOFT-CDO-ALLDAYEVENT:FALSE
SUMMARY:Mistle Toe Market
DESCRIPTION:Whiteville Junior Womans Club presents the Annual Mistletoe Market! Grab your family\, friends\, coworkers\, neighbors & get your Christmas shopping completed at this year's Mistletoe Market!  Our goal is to bring unique vendors and products.\n\n\n\nAdmission fee of $5.00 to access all vendors and a shopping bag.
X-ALT-DESC;FMTTYPE=text/html:&nbsp\;Whiteville Junior Womans Club presents the Annual Mistletoe Market! Grab your family\, friends\, coworkers\, neighbors &amp\; get your Christmas shopping completed at this year&#39\;s Mistletoe Market!&nbsp\; Our goal is to bring unique vendors and products.<br />\n<br />\nAdmission fee of $5.00 to access all vendors and a shopping bag.<br />\n<br />\n<br />\n<br />\n&nbsp\;
LOCATION:Columbus County Fairgrounds 886 Prison Camp Road Whiteville\, NC 28472
UID:e.2482.6803
SEQUENCE:3
DTSTAMP:20260420T000550Z
URL:https://members.thecolumbuschamber.com/events/details/mistle-toe-market-6803
END:VEVENT

END:VCALENDAR
