BEGIN:VCALENDAR
VERSION:2.0
PRODID:-//ChamberMaster//Event Calendar 2.0//EN
METHOD:PUBLISH
X-PUBLISHED-TTL:P3D
REFRESH-INTERVAL:P3D
CALSCALE:GREGORIAN
BEGIN:VEVENT
DTSTART:20230811T130000Z
DTEND:20230813T160000Z
X-MICROSOFT-CDO-ALLDAYEVENT:FALSE
SUMMARY:Miss Entrepreneur Beach Retreat 2023
DESCRIPTION:The Ultimate Girls' Trip for women who want to own a BUSINESS\, pile up PROFITS\, and take control of their life! Join us for a weekend of LUXURY behavior\, excursions\, workshops\, networking\, RELAXING\, and inspiration! Ladies only. Learn SUCCESS SECRETS from real women getting real RESULTS. Event tickets available now! Limited seating!!
X-ALT-DESC;FMTTYPE=text/html:<span style="color:rgb(5\, 5\, 5)\; font-family:segoe ui historic\,segoe ui\,helvetica\,arial\,sans-serif\; font-size:15px">The Ultimate Girls&#39\; Trip for women who want to own a BUSINESS\, pile up PROFITS\, and take control of their life! Join us for a weekend of LUXURY behavior\, excursions\, workshops\, networking\, RELAXING\, and inspiration! Ladies only. Learn SUCCESS SECRETS from real women getting real RESULTS. Event tickets available now! Limited seating!!</span>
LOCATION:Myrtle Beach\, SC
UID:e.2482.6676
SEQUENCE:3
DTSTAMP:20260421T183638Z
URL:https://members.thecolumbuschamber.com/events/details/miss-entrepreneur-beach-retreat-2023-6676
END:VEVENT

END:VCALENDAR
