BEGIN:VCALENDAR
VERSION:2.0
PRODID:-//ChamberMaster//Event Calendar 2.0//EN
METHOD:PUBLISH
X-PUBLISHED-TTL:P3D
REFRESH-INTERVAL:P3D
CALSCALE:GREGORIAN
BEGIN:VEVENT
DTSTART:20231027T233000Z
DTEND:20231028T013000Z
X-MICROSOFT-CDO-ALLDAYEVENT:FALSE
SUMMARY:Lorrie Morgan with Jesse Keith Whitley
DESCRIPTION:Lorrie Morgan is a Nashville native who is the daughter of Country Music Hall of Fame member George Morgan. She made her debut on the Grand Ole Opry stage at age 13\, singing "Paper Roses."
X-ALT-DESC;FMTTYPE=text/html:Lorrie Morgan is a Nashville native who is the daughter of Country Music Hall of Fame member George Morgan. She made her debut on the Grand Ole Opry stage at age 13\, singing &quot\;Paper Roses.&quot\;
LOCATION:Givens Performing Arts Center
UID:e.2482.6826
SEQUENCE:3
DTSTAMP:20260423T035908Z
URL:https://members.thecolumbuschamber.com/events/details/lorrie-morgan-with-jesse-keith-whitley-6826
END:VEVENT

END:VCALENDAR
