BEGIN:VCALENDAR
VERSION:2.0
PRODID:-//ChamberMaster//Event Calendar 2.0//EN
METHOD:PUBLISH
X-PUBLISHED-TTL:P3D
REFRESH-INTERVAL:P3D
CALSCALE:GREGORIAN
BEGIN:VEVENT
DTSTART:20230817T170000Z
DTEND:20230817T180000Z
X-MICROSOFT-CDO-ALLDAYEVENT:FALSE
SUMMARY:Little Free Library
DESCRIPTION:You're invited for the unveiling Little Free Library\n\nTake a Book - Share a Book
X-ALT-DESC;FMTTYPE=text/html:You&#39\;re invited for the unveiling Little Free Library<br />\nTake a Book - Share a Book
LOCATION:G & G Healthcare 7490 Andrew Jackson Highway S.W. Cerro Gordo\, NC 28430
UID:e.2482.6800
SEQUENCE:3
DTSTAMP:20260421T183149Z
URL:https://members.thecolumbuschamber.com/events/details/little-free-library-6800
END:VEVENT

END:VCALENDAR
