BEGIN:VCALENDAR
VERSION:2.0
PRODID:-//ChamberMaster//Event Calendar 2.0//EN
METHOD:PUBLISH
X-PUBLISHED-TTL:P3D
REFRESH-INTERVAL:P3D
CALSCALE:GREGORIAN
BEGIN:VEVENT
DTSTART:20231201T230000Z
DTEND:20231201T230000Z
X-MICROSOFT-CDO-ALLDAYEVENT:FALSE
SUMMARY:Lighting of the Christmas Tree
DESCRIPTION:Friday\, December 1\, 2023 at 6:00 p.m.\n\nLighting of the Christmas Tree\n\nSpecial Music and refreshments\n\n(hot chocolate\, cider and sweet goodies)
X-ALT-DESC;FMTTYPE=text/html:Friday\, December 1\, 2023 at 6:00 p.m.<br />\nLighting of the Christmas Tree<br />\nSpecial Music and refreshments<br />\n(hot chocolate\, cider and sweet goodies)
LOCATION:Chadbourn Depot Museum 201 West 1st Avenue Chadbourn\, NC 28431
UID:e.2482.6866
SEQUENCE:3
DTSTAMP:20260420T000713Z
URL:https://members.thecolumbuschamber.com/events/details/lighting-of-the-christmas-tree-6866
END:VEVENT

END:VCALENDAR
