BEGIN:VCALENDAR
VERSION:2.0
PRODID:-//ChamberMaster//Event Calendar 2.0//EN
METHOD:PUBLISH
X-PUBLISHED-TTL:P3D
REFRESH-INTERVAL:P3D
CALSCALE:GREGORIAN
BEGIN:VEVENT
DTSTART:20231206T000000Z
DTEND:20231206T020000Z
X-MICROSOFT-CDO-ALLDAYEVENT:FALSE
SUMMARY:Lessons From A Small Townn
DESCRIPTION:Lessons From A Small Town by Bill Thompson\n\nWine\, Cheese & Dessert Book signing
X-ALT-DESC;FMTTYPE=text/html:Lessons From A Small Town by Bill Thompson<br />\nWine\, Cheese &amp\; Dessert Book signing&nbsp\;
LOCATION:NC Museum Of Natural Sciences At Whiteville South Madison Street Whiteville\, NC 28472
UID:e.2482.6875
SEQUENCE:3
DTSTAMP:20260420T000544Z
URL:https://members.thecolumbuschamber.com/events/details/lessons-from-a-small-townn-6875
END:VEVENT

END:VCALENDAR
