BEGIN:VCALENDAR
VERSION:2.0
PRODID:-//ChamberMaster//Event Calendar 2.0//EN
METHOD:PUBLISH
X-PUBLISHED-TTL:P3D
REFRESH-INTERVAL:P3D
CALSCALE:GREGORIAN
BEGIN:VEVENT
DTSTART:20231028T220000Z
DTEND:20231029T000000Z
X-MICROSOFT-CDO-ALLDAYEVENT:FALSE
SUMMARY:Lake Waccamaw Safe Night
DESCRIPTION:Lake Waccamaw Safe Night at ECHS will be a truck or treat/carnival event in the faculty parking lot with event parking in the student parking lot.
X-ALT-DESC;FMTTYPE=text/html:Lake Waccamaw Safe Night at ECHS will be a truck or treat/carnival event in the faculty parking lot with event parking in the student parking lot.
LOCATION:ECHS Lake Waccamaw\, NC\, 28450
UID:e.2482.6857
SEQUENCE:3
DTSTAMP:20260423T035451Z
URL:https://members.thecolumbuschamber.com/events/details/lake-waccamaw-safe-night-6857
END:VEVENT

END:VCALENDAR
