BEGIN:VCALENDAR
VERSION:2.0
PRODID:-//ChamberMaster//Event Calendar 2.0//EN
METHOD:PUBLISH
X-PUBLISHED-TTL:P3D
REFRESH-INTERVAL:P3D
CALSCALE:GREGORIAN
BEGIN:VEVENT
DTSTART;VALUE=DATE:20230703
DTEND;VALUE=DATE:20230704
TRANSP:TRANSPARENT
X-MICROSOFT-CDO-ALLDAYEVENT:TRUE
SUMMARY:Lake Waccamaw Fourth of July Flotilla
DESCRIPTION:Lake Waccamaw Fourth of July Flotilla
X-ALT-DESC;FMTTYPE=text/html:Lake Waccamaw Fourth of July Flotilla
LOCATION:Lake Waccamaw\, NC
UID:e.2482.6692
SEQUENCE:3
DTSTAMP:20260421T171322Z
URL:https://members.thecolumbuschamber.com/events/details/lake-waccamaw-fourth-of-july-flotilla-6692
END:VEVENT

END:VCALENDAR
