BEGIN:VCALENDAR
VERSION:2.0
PRODID:-//ChamberMaster//Event Calendar 2.0//EN
METHOD:PUBLISH
X-PUBLISHED-TTL:P3D
REFRESH-INTERVAL:P3D
CALSCALE:GREGORIAN
BEGIN:VEVENT
DTSTART:20231216T140000Z
DTEND:20231216T150000Z
X-MICROSOFT-CDO-ALLDAYEVENT:FALSE
SUMMARY:Lake Waccamaw Depot Museum Bake sale
DESCRIPTION:Lake Waccamaw Depot Museum Annual Bake Sale
X-ALT-DESC;FMTTYPE=text/html:Lake Waccamaw Depot Museum Annual Bake Sale
LOCATION:Depot Museum Lake Waccamaw\, NC
UID:e.2482.6882
SEQUENCE:3
DTSTAMP:20260420T013608Z
URL:https://members.thecolumbuschamber.com/events/details/lake-waccamaw-depot-museum-bake-sale-6882
END:VEVENT

END:VCALENDAR
