BEGIN:VCALENDAR
VERSION:2.0
PRODID:-//ChamberMaster//Event Calendar 2.0//EN
METHOD:PUBLISH
X-PUBLISHED-TTL:P3D
REFRESH-INTERVAL:P3D
CALSCALE:GREGORIAN
BEGIN:VEVENT
DTSTART:20221203T150000Z
DTEND:20221203T163000Z
X-MICROSOFT-CDO-ALLDAYEVENT:FALSE
SUMMARY:Lake Waccamaw Christmas Parade
DESCRIPTION:The Town of Lake Waccamaw is planning the Annual Christmas Parade\n\nand would like to have you included in this festive event!  The parade is slated for Saturday\, December 3\, 2022 at 10:00 a.m. Christmas by the Lake Flotilla starts at 5:30 p.m. and Flotilla After Party at Burning Lake at 7:30 p.m.
X-ALT-DESC;FMTTYPE=text/html:The Town of Lake Waccamaw is planning the Annual Christmas Parade<br />\nand would like to have you included in this festive event!&nbsp\; The parade is slated for Saturday\, December 3\, 2022 at 10:00 a.m. Christmas by the Lake Flotilla starts at 5:30 p.m. and Flotilla After Party at Burning Lake at 7:30 p.m.
LOCATION:Lake Waccamaw\, NC 28450
UID:e.2482.6550
SEQUENCE:3
DTSTAMP:20260422T182243Z
URL:https://members.thecolumbuschamber.com/events/details/lake-waccamaw-christmas-parade-6550
END:VEVENT

END:VCALENDAR
