BEGIN:VCALENDAR
VERSION:2.0
PRODID:-//ChamberMaster//Event Calendar 2.0//EN
METHOD:PUBLISH
X-PUBLISHED-TTL:P3D
REFRESH-INTERVAL:P3D
CALSCALE:GREGORIAN
BEGIN:VEVENT
DTSTART;VALUE=DATE:20231212
DTEND;VALUE=DATE:20231213
TRANSP:TRANSPARENT
X-MICROSOFT-CDO-ALLDAYEVENT:TRUE
SUMMARY:Judging Of The Trim A Tree Decorating Contest
DESCRIPTION:Judging Of The Trim A Tree Decorating Contest
X-ALT-DESC;FMTTYPE=text/html:Judging Of The Trim A Tree Decorating Contest
LOCATION:Tabor City\, NC 28463
UID:e.2482.6844
SEQUENCE:3
DTSTAMP:20260420T012606Z
URL:https://members.thecolumbuschamber.com/events/details/judging-of-the-trim-a-tree-decorating-contest-6844
END:VEVENT

END:VCALENDAR
