BEGIN:VCALENDAR
VERSION:2.0
PRODID:-//ChamberMaster//Event Calendar 2.0//EN
METHOD:PUBLISH
X-PUBLISHED-TTL:P3D
REFRESH-INTERVAL:P3D
CALSCALE:GREGORIAN
BEGIN:VEVENT
DTSTART:20231202T003000Z
DTEND:20231202T023000Z
X-MICROSOFT-CDO-ALLDAYEVENT:FALSE
SUMMARY:Holiday Extravaganza
DESCRIPTION:The Holiday Extravaganza showcases the university's faculty\, staff\, and student musicians\, performing cherished holiday classics. This family-friendly event also features a fun sing-along of well-known Christmas carols.
X-ALT-DESC;FMTTYPE=text/html:The Holiday Extravaganza showcases the university&rsquo\;s faculty\, staff\, and student musicians\, performing cherished holiday classics. This family-friendly event also features a fun sing-along of well-known Christmas carols.
LOCATION:Givens Performing Arts Center
UID:e.2482.6828
SEQUENCE:3
DTSTAMP:20260420T000708Z
URL:https://members.thecolumbuschamber.com/events/details/holiday-extravaganza-12-01-2023-6828
END:VEVENT

END:VCALENDAR
