BEGIN:VCALENDAR
VERSION:2.0
PRODID:-//ChamberMaster//Event Calendar 2.0//EN
METHOD:PUBLISH
X-PUBLISHED-TTL:P3D
REFRESH-INTERVAL:P3D
CALSCALE:GREGORIAN
BEGIN:VEVENT
DTSTART:20251017T140000Z
DTEND:20251017T150000Z
X-MICROSOFT-CDO-ALLDAYEVENT:FALSE
SUMMARY:Historic Landmark Plaque Presentation
DESCRIPTION:Reuben Brown House Preservation Society Historic Landmark Plaque Program\n\nLake Waccamaw Depot Museum
X-ALT-DESC;FMTTYPE=text/html:Reuben Brown House Preservation Society Historic Landmark Plaque Program<br />\nLake Waccamaw Depot Museum
LOCATION:Lake Waccamaw Depot Museum 201 Flemington Drive Lake Waccamaw\, NC 28450
UID:e.2482.7253
SEQUENCE:3
DTSTAMP:20260422T201914Z
URL:https://members.thecolumbuschamber.com/events/details/historic-landmark-plaque-presentation-7253
END:VEVENT

END:VCALENDAR
