BEGIN:VCALENDAR
VERSION:2.0
PRODID:-//ChamberMaster//Event Calendar 2.0//EN
METHOD:PUBLISH
X-PUBLISHED-TTL:P3D
REFRESH-INTERVAL:P3D
CALSCALE:GREGORIAN
BEGIN:VEVENT
DTSTART:20221031T220000Z
DTEND:20221101T003000Z
X-MICROSOFT-CDO-ALLDAYEVENT:FALSE
SUMMARY:Halloween Safe Night For Kids
DESCRIPTION:Halloween Safe Night For Kids\n\nSponsored by the Town of Lake Waccamaw\, Columbus County Parks & Recreation and Boys & Girls Homes of NC.
X-ALT-DESC;FMTTYPE=text/html:Halloween Safe Night For Kids<br />\nSponsored by the Town of Lake Waccamaw\, Columbus County Parks &amp\; Recreation and Boys &amp\; Girls Homes of NC.
LOCATION:Boys & Girls Homes Farm and BTS Exhibition Center Sams Pott Road Lake Waccamaw\, NC 28450
UID:e.2482.6607
SEQUENCE:3
DTSTAMP:20260425T164434Z
URL:https://members.thecolumbuschamber.com/events/details/halloween-safe-night-for-kids-6607
END:VEVENT

END:VCALENDAR
