BEGIN:VCALENDAR
VERSION:2.0
PRODID:-//ChamberMaster//Event Calendar 2.0//EN
METHOD:PUBLISH
X-PUBLISHED-TTL:P3D
REFRESH-INTERVAL:P3D
CALSCALE:GREGORIAN
BEGIN:VEVENT
DTSTART:20221028T230000Z
DTEND:20221029T020000Z
X-MICROSOFT-CDO-ALLDAYEVENT:FALSE
SUMMARY:Halloween Block Party
DESCRIPTION:The Freaks come out at night Halloween Block Party at Farmacy on Main\n\nOctober 28\, 2022 Costume Contest.\n\nHosted by Farmacy on Main and Whiteville Downtown Development Commission.  Adults 21 and over.
X-ALT-DESC;FMTTYPE=text/html:The Freaks come out at night Halloween Block Party at Farmacy on Main<br />\nOctober 28\, 2022 Costume Contest.<br />\nHosted by Farmacy on Main and Whiteville Downtown Development Commission.&nbsp\; Adults 21 and over.
LOCATION:Farmacy On Main Downtown Whiteville Whiteville\,NC 28472
UID:e.2482.6617
SEQUENCE:3
DTSTAMP:20260425T164253Z
URL:https://members.thecolumbuschamber.com/events/details/halloween-block-party-6617
END:VEVENT

END:VCALENDAR
