BEGIN:VCALENDAR
VERSION:2.0
PRODID:-//ChamberMaster//Event Calendar 2.0//EN
METHOD:PUBLISH
X-PUBLISHED-TTL:P3D
REFRESH-INTERVAL:P3D
CALSCALE:GREGORIAN
BEGIN:VEVENT
DTSTART:20231031T220000Z
DTEND:20231101T003000Z
X-MICROSOFT-CDO-ALLDAYEVENT:FALSE
SUMMARY:Halloween Bash
DESCRIPTION:Whiteville Police Department Halloween Bash\n\nCome out and enjoy some family fun and of course...THE CANDY!!
X-ALT-DESC;FMTTYPE=text/html:Whiteville Police Department Halloween Bash<br />\nCome out and enjoy some family fun and of course...THE CANDY!!
LOCATION:Whiteville City Hall Parking Lot Whiteville\, NC 28472
UID:e.2482.6838
SEQUENCE:3
DTSTAMP:20260423T035113Z
URL:https://members.thecolumbuschamber.com/events/details/halloween-bash-6838
END:VEVENT

END:VCALENDAR
