BEGIN:VCALENDAR
VERSION:2.0
PRODID:-//ChamberMaster//Event Calendar 2.0//EN
METHOD:PUBLISH
X-PUBLISHED-TTL:P3D
REFRESH-INTERVAL:P3D
CALSCALE:GREGORIAN
BEGIN:VEVENT
DTSTART:20230221T233000Z
DTEND:20230222T013000Z
X-MICROSOFT-CDO-ALLDAYEVENT:FALSE
SUMMARY:Greater Tabor City Chamber of Commerce Annual Banquet & Meeting
DESCRIPTION:You're invited to attend the  Greater Tabor City Chamber of Commerce Annual Banquet and Meeting.\n\nGuest  Speaker : Jason Beck\, Columbus Regional Healthcare System
X-ALT-DESC;FMTTYPE=text/html:You&#39\;re invited to attend the&nbsp\; Greater Tabor City Chamber of Commerce Annual Banquet and Meeting.<br />\nGuest&nbsp\; Speaker : Jason Beck\, Columbus Regional Healthcare System
LOCATION:The Ritz Center 213 Hickman Road Tabor City\, North Carolina 28463
UID:e.2482.6668
SEQUENCE:3
DTSTAMP:20260425T110138Z
URL:https://members.thecolumbuschamber.com/events/details/greater-tabor-city-chamber-of-commerce-annual-banquet-meeting-6668
END:VEVENT

END:VCALENDAR
