BEGIN:VCALENDAR
VERSION:2.0
PRODID:-//ChamberMaster//Event Calendar 2.0//EN
METHOD:PUBLISH
X-PUBLISHED-TTL:P3D
REFRESH-INTERVAL:P3D
CALSCALE:GREGORIAN
BEGIN:VEVENT
DTSTART;VALUE=DATE:20240713
DTEND;VALUE=DATE:20240714
TRANSP:TRANSPARENT
X-MICROSOFT-CDO-ALLDAYEVENT:TRUE
SUMMARY:Farmers Market Watermelon Day
DESCRIPTION:Farmers Market Watermelon Day
X-ALT-DESC;FMTTYPE=text/html:Farmers Market Watermelon Day
LOCATION:Columbus County Community Farmers Market 701 North Whiteville\, NC 28472
UID:e.2482.6960
SEQUENCE:3
DTSTAMP:20260420T190016Z
URL:https://members.thecolumbuschamber.com/events/details/farmers-market-watermelon-day-6960
END:VEVENT

END:VCALENDAR
