BEGIN:VCALENDAR
VERSION:2.0
PRODID:-//ChamberMaster//Event Calendar 2.0//EN
METHOD:PUBLISH
X-PUBLISHED-TTL:P3D
REFRESH-INTERVAL:P3D
CALSCALE:GREGORIAN
BEGIN:VEVENT
DTSTART:20221021T143000Z
DTEND:20221021T173000Z
X-MICROSOFT-CDO-ALLDAYEVENT:FALSE
SUMMARY:Farm Bureau Insurance Columbus County Addison Agency
DESCRIPTION:Farm Bureau Insurance Columbus County Addison Agency\n\nCustomer and Community Appreciation Day\n\nHelping You Is What We Do Best\n\nCome Meet The New Agency Manager\n\nFree Hot Dog lunch and goodie bags for the kids\n\nRegister for Door Prizes \n\nSet up appointment to meet your agent for confidential review or to get a home\, auto or life quote\n\nLearn the benefits of being a member and how you are investing into our community
X-ALT-DESC;FMTTYPE=text/html:Farm Bureau Insurance Columbus County Addison Agency<br />\nCustomer and Community Appreciation Day<br />\nHelping You Is What We Do Best<br />\n<span style="color: rgb(51\, 51\, 51)\; font-family: sans-serif\, Arial\, Verdana\, &quot\;Trebuchet MS&quot\;\; font-size: 13px\; background-color: rgb(255\, 255\, 255)\;">Come Meet The New Agency Manager</span><br style="color: rgb(51\, 51\, 51)\; font-family: sans-serif\, Arial\, Verdana\, &quot\;Trebuchet MS&quot\;\; font-size: 13px\;" />\n<span style="color: rgb(51\, 51\, 51)\; font-family: sans-serif\, Arial\, Verdana\, &quot\;Trebuchet MS&quot\;\; font-size: 13px\; background-color: rgb(255\, 255\, 255)\;">Free Hot Dog lunch and goodie bags for the kids</span><br style="color: rgb(51\, 51\, 51)\; font-family: sans-serif\, Arial\, Verdana\, &quot\;Trebuchet MS&quot\;\; font-size: 13px\;" />\n<span style="color: rgb(51\, 51\, 51)\; font-family: sans-serif\, Arial\, Verdana\, &quot\;Trebuchet MS&quot\;\; font-size: 13px\; background-color: rgb(255\, 255\, 255)\;">Register for Door Prizes&nbsp\;<br />\nSet up appointment to meet your agent for confidential review or to get a home\, auto or life quote<br />\nLearn the benefits of being a member and how you are investing into our community</span><br />\n&nbsp\;
LOCATION:NC Farm Bureau Whiteville Addison Agency 113 West Smith Street Whiteville\, NC 28472
UID:e.2482.6616
SEQUENCE:3
DTSTAMP:20260425T164820Z
URL:https://members.thecolumbuschamber.com/events/details/farm-bureau-insurance-columbus-county-addison-agency-6616
END:VEVENT

END:VCALENDAR
