BEGIN:VCALENDAR
VERSION:2.0
PRODID:-//ChamberMaster//Event Calendar 2.0//EN
METHOD:PUBLISH
X-PUBLISHED-TTL:P3D
REFRESH-INTERVAL:P3D
CALSCALE:GREGORIAN
BEGIN:VEVENT
DTSTART;VALUE=DATE:20221007
DTEND;VALUE=DATE:20221009
TRANSP:TRANSPARENT
X-MICROSOFT-CDO-ALLDAYEVENT:TRUE
SUMMARY:Fair Bluff River Strut Festival
DESCRIPTION:Fair Bluff Chamber of Commerce is bringing back the River Strut Festival.  This festival is to increase awareness of your health\, beauty\, & wellness to help you live a longer\, better quality of life.  We will have featured vendors\, activities\, & food trucks to help you accomplish this.
X-ALT-DESC;FMTTYPE=text/html:Fair Bluff Chamber of Commerce is bringing back the River Strut Festival.&nbsp\; This festival is to increase awareness of your health\, beauty\, &amp\; wellness to help you live a longer\, better quality of life.&nbsp\; We will have featured vendors\, activities\, &amp\; food trucks to help you accomplish this.
LOCATION:River Strut Riverside Drive Fair Bluff\, NC 28439
UID:e.2482.6592
SEQUENCE:3
DTSTAMP:20260425T164535Z
URL:https://members.thecolumbuschamber.com/events/details/fair-bluff-river-strut-festival-6592
END:VEVENT

END:VCALENDAR
