BEGIN:VCALENDAR
VERSION:2.0
PRODID:-//ChamberMaster//Event Calendar 2.0//EN
METHOD:PUBLISH
X-PUBLISHED-TTL:P3D
REFRESH-INTERVAL:P3D
CALSCALE:GREGORIAN
BEGIN:VEVENT
DTSTART:20231209T200000Z
DTEND:20231210T000000Z
X-MICROSOFT-CDO-ALLDAYEVENT:FALSE
SUMMARY:Fair Bluff Christmas Tree Lighting & Parade
DESCRIPTION:Come join us as we celebrate the Christmas Tree Lighting outside the Fair Bluff Visitor's Center and Santa will be available at the center for pictures.
X-ALT-DESC;FMTTYPE=text/html:Come join us as we celebrate the Christmas Tree Lighting outside the Fair Bluff Visitor&#39\;s Center and Santa will be available at the center for pictures.
LOCATION:Fair Bluff Christmas Tree Lighting and Parade 1054 Main Street Far Bluff\, NC 28439
UID:e.2482.6870
SEQUENCE:3
DTSTAMP:20260420T000703Z
URL:https://members.thecolumbuschamber.com/events/details/fair-bluff-christmas-tree-lighting-parade-6870
END:VEVENT

END:VCALENDAR
