BEGIN:VCALENDAR
VERSION:2.0
PRODID:-//ChamberMaster//Event Calendar 2.0//EN
METHOD:PUBLISH
X-PUBLISHED-TTL:P3D
REFRESH-INTERVAL:P3D
CALSCALE:GREGORIAN
BEGIN:VEVENT
DTSTART:20221022T140000Z
DTEND:20221022T170000Z
X-MICROSOFT-CDO-ALLDAYEVENT:FALSE
SUMMARY:Entrepreneurship Workshop (for beginners) & Networking Event - Part 2
DESCRIPTION:This is a two-part workshop designed to take any entrepreneur from startup to sustainability in 90 days or less. This workshop will focus on creating a marketing focus\, identifying your target audience\, and branding your business for success. Secure the bag and commit to finishing what you started. Plan for success in 2023 by learning small business fundamentals\, acquiring new skills\, and networking with like-minded entrepreneurs. Speaker(s): Cynthia Ellis\, C. Ellis Management
X-ALT-DESC;FMTTYPE=text/html:This is a two-part workshop designed to take any entrepreneur from startup to sustainability in 90 days or less. This workshop will focus on creating a marketing focus\, identifying your target audience\, and branding your business for success. Secure the bag and commit to finishing what you started. Plan for success in 2023 by learning small business fundamentals\, acquiring new skills\, and networking with like-minded entrepreneurs. Speaker(s): Cynthia Ellis\, C. Ellis Management
LOCATION:Southeastern Community College T122
UID:e.2482.6631
SEQUENCE:3
DTSTAMP:20260425T164238Z
URL:https://members.thecolumbuschamber.com/events/details/entrepreneurship-workshop-for-beginners-networking-event-part-2-6631
END:VEVENT

END:VCALENDAR
