BEGIN:VCALENDAR
VERSION:2.0
PRODID:-//ChamberMaster//Event Calendar 2.0//EN
METHOD:PUBLISH
X-PUBLISHED-TTL:P3D
REFRESH-INTERVAL:P3D
CALSCALE:GREGORIAN
BEGIN:VEVENT
DTSTART:20230509T180000Z
DTEND:20230509T200000Z
X-MICROSOFT-CDO-ALLDAYEVENT:FALSE
SUMMARY:East Coast Migrant Head Start Project
DESCRIPTION:East Coast Migrant Head Start Project\n\n2023 Community Open House
X-ALT-DESC;FMTTYPE=text/html:East Coast Migrant Head Start Project<br />\n2023 Community Open House
LOCATION:84 A. O. Inan Lane Whiteville\, NC 28472
UID:e.2482.6737
SEQUENCE:3
DTSTAMP:20260423T102857Z
URL:https://members.thecolumbuschamber.com/events/details/east-coast-migrant-head-start-project-6737
END:VEVENT

END:VCALENDAR
