BEGIN:VCALENDAR
VERSION:2.0
PRODID:-//ChamberMaster//Event Calendar 2.0//EN
METHOD:PUBLISH
X-PUBLISHED-TTL:P3D
REFRESH-INTERVAL:P3D
CALSCALE:GREGORIAN
BEGIN:VEVENT
DTSTART:20231204T213000Z
DTEND:20231204T223000Z
X-MICROSOFT-CDO-ALLDAYEVENT:FALSE
SUMMARY:Drop -In Retirement Reception
DESCRIPTION:Drop-In Retirement Reception honoring Mr. Al McKenze and Ms. Julie Strickland for their years of service as Columbus County Department Managers.  Please join us in bidding farewell to them as we say goodbye and good luck\, let's see them off with good thoughts.
X-ALT-DESC;FMTTYPE=text/html:Drop-In Retirement Reception honoring Mr. Al McKenze and Ms. Julie Strickland for their years of service as Columbus County Department Managers.&nbsp\; Please join us in bidding farewell to them as we say goodbye and good luck\, let&#39\;s see them off with good thoughts.
LOCATION:Columbus County Commissioners Chambers 127 West Webster Street\, 3rd Floor Whiteville\, NC 28472
UID:e.2482.6874
SEQUENCE:3
DTSTAMP:20260420T000553Z
URL:https://members.thecolumbuschamber.com/events/details/drop-in-retirement-reception-6874
END:VEVENT

END:VCALENDAR
