BEGIN:VCALENDAR
VERSION:2.0
PRODID:-//ChamberMaster//Event Calendar 2.0//EN
METHOD:PUBLISH
X-PUBLISHED-TTL:P3D
REFRESH-INTERVAL:P3D
CALSCALE:GREGORIAN
BEGIN:VEVENT
DTSTART:20230817T223000Z
DTEND:20230818T030000Z
X-MICROSOFT-CDO-ALLDAYEVENT:FALSE
SUMMARY:Dream Center Presents Black\, White\, and Vinyl Evening
DESCRIPTION:The Dream Center presents an evening of Black\, White\, and Vinyl connecting for a cause.  Dancing to your vinyl records. Bring what you want to hear. Diverse food stations.
X-ALT-DESC;FMTTYPE=text/html:The Dream Center presents an evening of Black\, White\, and Vinyl connecting for a cause.&nbsp\; Dancing to your vinyl records. Bring what you want to hear. Diverse food stations.
LOCATION:Vineland Station Depot 701 S. Madison Street Whiteville\, NC 28472
UID:e.2482.6792
SEQUENCE:3
DTSTAMP:20260421T172550Z
URL:https://members.thecolumbuschamber.com/events/details/dream-center-presents-black-white-and-vinyl-evening-6792
END:VEVENT

END:VCALENDAR
