BEGIN:VCALENDAR
VERSION:2.0
PRODID:-//ChamberMaster//Event Calendar 2.0//EN
METHOD:PUBLISH
X-PUBLISHED-TTL:P3D
REFRESH-INTERVAL:P3D
CALSCALE:GREGORIAN
BEGIN:VEVENT
DTSTART:20221007T143000Z
DTEND:20221008T020000Z
X-MICROSOFT-CDO-ALLDAYEVENT:FALSE
SUMMARY:Cycle NC Mountains to Coast Ride
DESCRIPTION:Approximately 1\,000 cyclists participating in the Cycle NC Mountains to Coast Ride will arrive in Whiteville on October 7\, 2022.  The ride is a fully supported 7 day bicycle tour traveling along scenic back roads that showcase rural North Carolina.   Eight towns have been selected as overnight hosts as the event moves across the state.  Riders will arrive between 10:30 a.m. - 3:00 p.m.  They will leave Whiteville on Saturday morning between 7:30 a.m. - 8:00 a.m.  We encourage you to decorate your business to welcome the cyclists to Whiteville!
X-ALT-DESC;FMTTYPE=text/html:Approximately 1\,000 cyclists participating in the Cycle NC Mountains to Coast Ride will arrive in Whiteville on October 7\, 2022.&nbsp\; The ride is a fully supported 7 day bicycle tour traveling along scenic back roads that showcase rural North Carolina.&nbsp\; &nbsp\;Eight towns have been selected as overnight hosts as the event moves across the state.&nbsp\; Riders will arrive between 10:30 a.m. - 3:00 p.m.&nbsp\; They will leave Whiteville on Saturday morning between 7:30 a.m. - 8:00 a.m.&nbsp\; We encourage you to decorate your business to welcome the cyclists to Whiteville!
LOCATION:Downtown Whiteville Whiteville\, NC 28472
UID:e.2482.6591
SEQUENCE:3
DTSTAMP:20260425T164433Z
URL:https://members.thecolumbuschamber.com/events/details/cycle-nc-mountains-to-coast-ride-6591
END:VEVENT

END:VCALENDAR
