BEGIN:VCALENDAR
VERSION:2.0
PRODID:-//ChamberMaster//Event Calendar 2.0//EN
METHOD:PUBLISH
X-PUBLISHED-TTL:P3D
REFRESH-INTERVAL:P3D
CALSCALE:GREGORIAN
BEGIN:VEVENT
DTSTART:20221212T223000Z
DTEND:20221212T233000Z
X-MICROSOFT-CDO-ALLDAYEVENT:FALSE
SUMMARY:CRHS Tree Lighting
DESCRIPTION:You're invited to the Columbus Regional Healthcare System Tree Lighting on Monday\, December 12\, 2022 at 5:30 p.m. honoring Columbus Regional employees!
X-ALT-DESC;FMTTYPE=text/html:You&#39\;re invited to the Columbus Regional Healthcare System Tree Lighting on Monday\, December 12\, 2022 at 5:30 p.m. honoring Columbus Regional employees!
LOCATION:Columbus Regional Healthcare System 500 Jefferson Street Whiteville\, NC 28472
UID:e.2482.6659
SEQUENCE:3
DTSTAMP:20260425T134053Z
URL:https://members.thecolumbuschamber.com/events/details/crhs-tree-lighting-6659
END:VEVENT

END:VCALENDAR
