BEGIN:VCALENDAR
VERSION:2.0
PRODID:-//ChamberMaster//Event Calendar 2.0//EN
METHOD:PUBLISH
X-PUBLISHED-TTL:P3D
REFRESH-INTERVAL:P3D
CALSCALE:GREGORIAN
BEGIN:VEVENT
DTSTART:20221021T140000Z
DTEND:20221021T180000Z
X-MICROSOFT-CDO-ALLDAYEVENT:FALSE
SUMMARY:Community Health & Wellness Fair
DESCRIPTION:Community Health & Wellness Fair
X-ALT-DESC;FMTTYPE=text/html:Community Health &amp\; Wellness Fair
LOCATION:NC Museum of Natural Science 415 S. Madison Street Whiteville\, NC 28472
UID:e.2482.6632
SEQUENCE:3
DTSTAMP:20260425T164555Z
URL:https://members.thecolumbuschamber.com/events/details/community-health-wellness-fair-6632
END:VEVENT

END:VCALENDAR
