BEGIN:VCALENDAR
VERSION:2.0
PRODID:-//ChamberMaster//Event Calendar 2.0//EN
METHOD:PUBLISH
X-PUBLISHED-TTL:P3D
REFRESH-INTERVAL:P3D
CALSCALE:GREGORIAN
BEGIN:VEVENT
DTSTART;VALUE=DATE:20230701
DTEND;VALUE=DATE:20230702
TRANSP:TRANSPARENT
X-MICROSOFT-CDO-ALLDAYEVENT:TRUE
SUMMARY:Community Celebration/Yard Sale
DESCRIPTION:Vendors with crafts\, businesses\, yard sale items.\n\nKids corner with bouncy house\, games and activities.\n\nConcessions available.
X-ALT-DESC;FMTTYPE=text/html:Vendors with crafts\, businesses\, yard sale items.<br />\nKids corner with bouncy house\, games and activities.<br />\nConcessions available.
LOCATION:6354 James B. White Hwy S. Whiteville\, NC 28472 (Approx. 3 miles South of Whiteville - Hwy 701)
UID:e.2482.6769
SEQUENCE:3
DTSTAMP:20260421T154734Z
URL:https://members.thecolumbuschamber.com/events/details/community-celebration-yard-sale-6769
END:VEVENT

END:VCALENDAR
