BEGIN:VCALENDAR
VERSION:2.0
PRODID:-//ChamberMaster//Event Calendar 2.0//EN
METHOD:PUBLISH
X-PUBLISHED-TTL:P3D
REFRESH-INTERVAL:P3D
CALSCALE:GREGORIAN
BEGIN:VEVENT
DTSTART:20231118T230000Z
DTEND:20231119T040000Z
X-MICROSOFT-CDO-ALLDAYEVENT:FALSE
SUMMARY:Columbus Regional Healthcare System Foundation Gala
DESCRIPTION:Columbus Regional Healthcare System Foundation Gala\n\nInspiration Gala For the Women In Your Life
X-ALT-DESC;FMTTYPE=text/html:Columbus Regional Healthcare System Foundation Gala<br />\nInspiration Gala For the Women In Your Life
LOCATION:1727 South Madison Street Unit 19 Whiteville\, NC 28472
UID:e.2482.6872
SEQUENCE:3
DTSTAMP:20260420T000852Z
URL:https://members.thecolumbuschamber.com/events/details/columbus-regional-healthcare-system-foundation-gala-6872
END:VEVENT

END:VCALENDAR
