BEGIN:VCALENDAR
VERSION:2.0
PRODID:-//ChamberMaster//Event Calendar 2.0//EN
METHOD:PUBLISH
X-PUBLISHED-TTL:P3D
REFRESH-INTERVAL:P3D
CALSCALE:GREGORIAN
BEGIN:VEVENT
DTSTART:20230207T223000Z
DTEND:20230207T233000Z
X-MICROSOFT-CDO-ALLDAYEVENT:FALSE
SUMMARY:Columbus Jobs Foundation Annual Meeting
DESCRIPTION:Columbus Jobs Foundation cordially invites you to the 2023 Annual Meeting on February 7\, 2023 at 5:30 p.m.\n\n\n\nHOR D' OEUVRES SERVED\n\nRSVP by Tuesday\, January 31\, 2023
X-ALT-DESC;FMTTYPE=text/html:Columbus Jobs Foundation cordially invites you to the 2023 Annual Meeting on February 7\, 2023 at 5:30 p.m.<br />\n<br />\nHOR D&#39\; OEUVRES SERVED<br />\nRSVP by Tuesday\, January 31\, 2023<br />\n&nbsp\;
LOCATION:The LAB Entrepreneurial Center At the former Truist branch 306 S. Madison Street Whiteville\, NC 28472
UID:e.2482.6671
SEQUENCE:3
DTSTAMP:20260425T121425Z
URL:https://members.thecolumbuschamber.com/events/details/columbus-jobs-foundation-annual-meeting-6671
END:VEVENT

END:VCALENDAR
