BEGIN:VCALENDAR
VERSION:2.0
PRODID:-//ChamberMaster//Event Calendar 2.0//EN
METHOD:PUBLISH
X-PUBLISHED-TTL:P3D
REFRESH-INTERVAL:P3D
CALSCALE:GREGORIAN
BEGIN:VEVENT
DTSTART:20230225T220000Z
DTEND:20230226T010000Z
X-MICROSOFT-CDO-ALLDAYEVENT:FALSE
SUMMARY:Columbus County Youth & Families Roarin' 20's
DESCRIPTION:Columbus County Youth and Families invites you to join us for the Roarin' 20's Taste of Columbus on Saturday\, February 25\, 2023 beginning at 5:00 p.m.
X-ALT-DESC;FMTTYPE=text/html:Columbus County Youth and Families invites you to join us for the Roarin&#39\; 20&#39\;s Taste of Columbus on Saturday\, February 25\, 2023 beginning at 5:00 p.m.
LOCATION:Western Prong Baptist Church 112 Peacock Road Whiteville\, NC 28472
UID:e.2482.6660
SEQUENCE:3
DTSTAMP:20260425T105340Z
URL:https://members.thecolumbuschamber.com/events/details/columbus-county-youth-families-roarin-20-s-6660
END:VEVENT

END:VCALENDAR
