BEGIN:VCALENDAR
VERSION:2.0
PRODID:-//ChamberMaster//Event Calendar 2.0//EN
METHOD:PUBLISH
X-PUBLISHED-TTL:P3D
REFRESH-INTERVAL:P3D
CALSCALE:GREGORIAN
BEGIN:VEVENT
DTSTART:20230922T130000Z
DTEND:20230922T210000Z
X-MICROSOFT-CDO-ALLDAYEVENT:FALSE
SUMMARY:Columbus County Partnership For Children's Golf Fundraiser
DESCRIPTION:The 3rd Annual Columbus County Partnership For Children's Golf Fundraiser will be held on September 22\, 2023 at Land O' Lakes Golf Club.
X-ALT-DESC;FMTTYPE=text/html:The 3rd Annual Columbus County Partnership For Children&#39\;s Golf Fundraiser will be held on September 22\, 2023 at Land O&#39\; Lakes Golf Club.
LOCATION:Land O' Lakes Golf Club 2950 Bill Hooks Road Whiteville\, NC 28472
UID:e.2482.6818
SEQUENCE:3
DTSTAMP:20260423T050842Z
URL:https://members.thecolumbuschamber.com/events/details/columbus-county-partnership-for-children-s-golf-fundraiser-6818
END:VEVENT

END:VCALENDAR
