BEGIN:VCALENDAR
VERSION:2.0
PRODID:-//ChamberMaster//Event Calendar 2.0//EN
METHOD:PUBLISH
X-PUBLISHED-TTL:P3D
REFRESH-INTERVAL:P3D
CALSCALE:GREGORIAN
BEGIN:VEVENT
DTSTART:20230619T160000Z
DTEND:20230619T220000Z
X-MICROSOFT-CDO-ALLDAYEVENT:FALSE
SUMMARY:Columbus County Juneteenth Festival & Business Expo
DESCRIPTION:Columbus County Juneteenth Festival\n\nand Business Expo held at Columbus County Agricultural Fairgrounds
X-ALT-DESC;FMTTYPE=text/html:Columbus County Juneteenth Festival<br />\nand Business Expo held at Columbus County Agricultural Fairgrounds
LOCATION:Prison Camp Road Whiteville\, NC 28472
UID:e.2482.6690
SEQUENCE:3
DTSTAMP:20260421T154928Z
URL:https://members.thecolumbuschamber.com/events/details/columbus-county-juneteenth-festival-business-expo-6690
END:VEVENT

END:VCALENDAR
