BEGIN:VCALENDAR
VERSION:2.0
PRODID:-//ChamberMaster//Event Calendar 2.0//EN
METHOD:PUBLISH
X-PUBLISHED-TTL:P3D
REFRESH-INTERVAL:P3D
CALSCALE:GREGORIAN
BEGIN:VEVENT
DTSTART:20230505T150000Z
DTEND:20230505T220000Z
X-MICROSOFT-CDO-ALLDAYEVENT:FALSE
SUMMARY:Columbus County Industrial Golf Tournament
DESCRIPTION:Golfers from across the area are invited to participate in the 44th Annual Columbus County Industrial Golf Tournament\, hosted by the Columbus Chamber of Commerce and Tourism.  The Captain's Choice Tournament will begin with registration and lunch at 11:00 AM followed by a shotgun start at 12:00 Noon. \n\nThe entry deadline is Friday\, April 28th\, 2023\n\n\n\nCall the Columbus Chamber of Commerce and Tourism\,  910-642-3171 or visit the website to register\, www.TheColumbusChamber.com.
X-ALT-DESC;FMTTYPE=text/html:<span style="font-family:arial\;">Golfers from across the area are invited to participate in the 44th Annual Columbus County Industrial Golf Tournament\, hosted by the Columbus Chamber of Commerce and Tourism.&nbsp\; The Captain&#39\;s Choice Tournament will begin with registration and lunch at 11:00 AM followed by a shotgun start at 12:00 Noon.</span><span style="font-family:arial\;">&nbsp\;<br />\nThe entry deadline is Friday\, April 28th\, 2023<br />\n<br />\nCall the Columbus Chamber of Commerce and Tourism\, &nbsp\;910-642-3171 or visit the website to register\, www.TheColumbusChamber.com.</span>
LOCATION:Land O' Lakes Golf Club 2950 Bill Hooks Road Whiteville\, NC 28472
UID:e.2482.6648
SEQUENCE:3
DTSTAMP:20260423T102931Z
URL:https://members.thecolumbuschamber.com/events/details/columbus-county-industrial-golf-tournament-6648
END:VEVENT

END:VCALENDAR
