BEGIN:VCALENDAR
VERSION:2.0
PRODID:-//ChamberMaster//Event Calendar 2.0//EN
METHOD:PUBLISH
X-PUBLISHED-TTL:P3D
REFRESH-INTERVAL:P3D
CALSCALE:GREGORIAN
BEGIN:VEVENT
DTSTART:20231017T200000Z
DTEND:20231017T210000Z
X-MICROSOFT-CDO-ALLDAYEVENT:FALSE
SUMMARY:Columbus County Government Downtown Campus Dedication & Ribbon Cutting
DESCRIPTION:While our doors have been opened for a while - we formally invite you to the Dedication and Ribbon Cutting Ceremony for Columbus County Government Downtown Campus.
X-ALT-DESC;FMTTYPE=text/html:While our doors have been opened for a while - we formally invite you to the Dedication and Ribbon Cutting Ceremony for Columbus County Government Downtown Campus.
LOCATION:Columbus County Government Downtown Campus 306 South Madison Street Whiteville\, NC 28472
UID:e.2482.6850
SEQUENCE:3
DTSTAMP:20260423T041135Z
URL:https://members.thecolumbuschamber.com/events/details/columbus-county-government-downtown-campus-dedication-ribbon-cutting-6850
END:VEVENT

END:VCALENDAR
